BEGIN:VCALENDAR
VERSION:2.0
PRODID:-//Delavan Historical Society - ECPv6.15.20//NONSGML v1.0//EN
CALSCALE:GREGORIAN
METHOD:PUBLISH
X-ORIGINAL-URL:https://www.delavanhistory.org
X-WR-CALDESC:Events for Delavan Historical Society
REFRESH-INTERVAL;VALUE=DURATION:PT1H
X-Robots-Tag:noindex
X-PUBLISHED-TTL:PT1H
BEGIN:VTIMEZONE
TZID:America/Chicago
BEGIN:DAYLIGHT
TZOFFSETFROM:-0600
TZOFFSETTO:-0500
TZNAME:CDT
DTSTART:20230312T080000
END:DAYLIGHT
BEGIN:STANDARD
TZOFFSETFROM:-0500
TZOFFSETTO:-0600
TZNAME:CST
DTSTART:20231105T070000
END:STANDARD
BEGIN:DAYLIGHT
TZOFFSETFROM:-0600
TZOFFSETTO:-0500
TZNAME:CDT
DTSTART:20240310T080000
END:DAYLIGHT
BEGIN:STANDARD
TZOFFSETFROM:-0500
TZOFFSETTO:-0600
TZNAME:CST
DTSTART:20241103T070000
END:STANDARD
BEGIN:DAYLIGHT
TZOFFSETFROM:-0600
TZOFFSETTO:-0500
TZNAME:CDT
DTSTART:20250309T080000
END:DAYLIGHT
BEGIN:STANDARD
TZOFFSETFROM:-0500
TZOFFSETTO:-0600
TZNAME:CST
DTSTART:20251102T070000
END:STANDARD
END:VTIMEZONE
BEGIN:VEVENT
DTSTART;TZID=America/Chicago:20241017T060000
DTEND;TZID=America/Chicago:20241017T193000
DTSTAMP:20260423T050406
CREATED:20241006T234204Z
LAST-MODIFIED:20241006T234355Z
UID:987499633-1729144800-1729193400@www.delavanhistory.org
SUMMARY:Barns of Walworth County - Frank Landi
DESCRIPTION:Barns of Walworth County.Frank Landi will talk about his research and new book dedicated to the barns of Walworth County.\n6pm There will be a short members meeting.6:15pm Frank’s presentation\nRefreshments available\nThe Delavan Community Room is located at 824 Geneva St.\, Delavan\, WI
URL:https://www.delavanhistory.org/event/barns-of-walworth-county-frank-landi/
LOCATION:Delavan Community Center\, 824 Geneva St\, Delavan\, 53115\, United States
CATEGORIES:Program
ATTACH;FMTTYPE=image/jpeg:https://www.delavanhistory.org/wp-content/uploads/2024/10/LandiBarns.jpg
ORGANIZER;CN="Delavan Historical Society":MAILTO:info@delavanhistory.org
END:VEVENT
END:VCALENDAR